View In:
ArcGIS JavaScript
ArcGIS Online map viewer
ArcGIS Earth
Service Description: Northfield/Northfield_2017_sid
Name: Northfield/Northfield_2017_sid
Description:
Single Fused Map Cache: false
Extent:
XMin: 1128155.53
YMin: 1973946.8800000008
XMax: 1142222.78
YMax: 1986857.6300000008
Spatial Reference: 103037
(6455)
LatestVCSWkid(0)
Initial Extent:
XMin: 1128155.53
YMin: 1973946.8800000008
XMax: 1142222.78
YMax: 1986857.6300000008
Spatial Reference: 103037
(6455)
LatestVCSWkid(0)
Full Extent:
XMin: 1128155.53
YMin: 1973946.8800000008
XMax: 1142222.78
YMax: 1986857.6300000008
Spatial Reference: 103037
(6455)
LatestVCSWkid(0)
Pixel Size X: 0.25
Pixel Size Y: 0.25
Band Count: 5
Pixel Type: U8
RasterFunction Infos: {"rasterFunctionInfos": [{
"name": "None",
"description": "",
"help": ""
}]}
Mensuration Capabilities: Basic
Inspection Capabilities:
Has Histograms: true
Has Colormap: false
Has Multi Dimensions : false
Rendering Rule:
Min Scale: 0
Max Scale: 0
Copyright Text:
Service Data Type: esriImageServiceDataTypeGeneric
Min Values: 0, 0, 0, 0, 0
Max Values: 232, 228, 217, 229, 255
Mean Values: 68.79679144385, 65.617112299465, 58.701604278075, 80.826024955437, 153.40392156863
Standard Deviation Values: 58.281418725622, 55.653046607102, 49.900961603017, 68.73424266074, 123.41010477131
Object ID Field:
Fields:
None
Default Mosaic Method: Center
Allowed Mosaic Methods:
SortField:
SortValue: null
Mosaic Operator: First
Default Compression Quality: 75
Default Resampling Method: Bilinear
Max Record Count: null
Max Image Height: 4100
Max Image Width: 15000
Max Download Image Count: null
Max Mosaic Image Count: null
Allow Raster Function: true
Allow Copy: true
Allow Analysis: true
Allow Compute TiePoints: false
Supports Statistics: false
Supports Advanced Queries: false
Use StandardizedQueries: true
Raster Type Infos:
Name: Raster Dataset
Description: Supports all ArcGIS Raster Datasets
Help:
Has Raster Attribute Table: false
Edit Fields Info: null
Ownership Based AccessControl For Rasters: null
Child Resources:
Info
Histograms
Statistics
Key Properties
Legend
Raster Function Infos
Supported Operations:
Export Image
Identify
Measure
Compute Histograms
Compute Statistics Histograms
Get Samples
Compute Class Statistics
Query Boundary
Compute Pixel Location
Compute Angles
Validate
Project