{
 "currentVersion": 11.5,
 "serviceDescription": "Northfield/Northfield_2017_sid",
 "serviceItemId": "582e43c5bd7c4f219448d94ad4e2f56f",
 "name": "Northfield/Northfield_2017_sid",
 "description": "",
 "extent": {
  "xmin": 1128155.53,
  "ymin": 1973946.8800000008,
  "xmax": 1142222.78,
  "ymax": 1986857.6300000008,
  "spatialReference": {
   "wkid": 103037,
   "latestWkid": 6455
  }
 },
 "initialExtent": {
  "xmin": 1128155.53,
  "ymin": 1973946.8800000008,
  "xmax": 1142222.78,
  "ymax": 1986857.6300000008,
  "spatialReference": {
   "wkid": 103037,
   "latestWkid": 6455
  }
 },
 "fullExtent": {
  "xmin": 1128155.53,
  "ymin": 1973946.8800000008,
  "xmax": 1142222.78,
  "ymax": 1986857.6300000008,
  "spatialReference": {
   "wkid": 103037,
   "latestWkid": 6455
  }
 },
 "sortableFields": "",
 "bandCount": 5,
 "pixelType": "U8",
 "minValues": [
  0,
  0,
  0,
  0,
  0
 ],
 "maxValues": [
  232,
  228,
  217,
  229,
  255
 ],
 "meanValues": [
  68.79679144385,
  65.617112299465,
  58.701604278075,
  80.826024955437,
  153.40392156863
 ],
 "stdvValues": [
  58.281418725622,
  55.653046607102,
  49.900961603017,
  68.73424266074,
  123.41010477131
 ],
 "serviceProperties": "Center<\/MosaicMethod>First<\/MosaicOperator>true<\/SortAscending><\/LockImageID><\/TileOrderField>0<\/TileOrderBase>0.000000<\/AvgImageSpacingX>0.000000<\/AvgImageSpacingY>0.0<\/ViewPointX>0.0<\/ViewPointY>0.0<\/ViewPointDefShiftX>0.0<\/ViewPointDefShiftY>None<\/CompressionMethod>75<\/CompressionQuality>0.010000<\/CompressionTolerance>Bilinear<\/SamplingMethod><\/ImageServiceProperties><\/ImageServer>",
 "allowedFields": "",
 "hasMultidimensions": false,
 "pixelSizeX": 0.25,
 "pixelSizeY": 0.25,
 "meanPixelSize": 0.07620015240030481,
 "datasetFormat": "MrSID",
 "uncompressedSize": 14529499835,
 "blockWidth": 1024,
 "blockHeight": 128,
 "compressionType": "Wavelet (MG4)",
 "bandNames": [
  "Band_1",
  "Band_2",
  "Band_3",
  "Band_4",
  "Band_5"
 ],
 "allowCopy": true,
 "allowAnalysis": true,
 "itemAccess": false,
 "inspectionCapabilities": "",
 "minPixelSize": 0,
 "maxPixelSize": 0,
 "copyrightText": "",
 "serviceDataType": "esriImageServiceDataTypeGeneric",
 "serviceSourceType": "esriImageServiceSourceTypeDataset",
 "objectIdField": "",
 "fields": [],
 "capabilities": "Image,Metadata,Mensuration",
 "defaultMosaicMethod": "Center",
 "allowedMosaicMethods": "",
 "sortField": "",
 "sortValue": null,
 "sortAscending": true,
 "mosaicOperator": "First",
 "defaultCompressionQuality": 75,
 "defaultResamplingMethod": "Bilinear",
 "maxImageHeight": 4100,
 "maxImageWidth": 15000,
 "allowRasterFunction": true,
 "rasterFunctionInfos": [
  {
   "name": "None",
   "description": "",
   "help": ""
  }
 ],
 "rasterTypeInfos": [
  {
   "name": "Raster Dataset",
   "description": "Supports all ArcGIS Raster Datasets",
   "help": ""
  }
 ],
 "mensurationCapabilities": "Basic",
 "hasHistograms": true,
 "hasColormap": false,
 "hasRasterAttributeTable": false,
 "minScale": 0,
 "maxScale": 0,
 "exportTilesAllowed": false,
 "supportsStatistics": false,
 "supportsAdvancedQueries": false,
 "editFieldsInfo": null,
 "ownershipBasedAccessControlForRasters": null,
 "allowComputeTiePoints": false,
 "useStandardizedQueries": true,
 "advancedQueryCapabilities": {
  "useStandardizedQueries": true,
  "supportsStatistics": false,
  "supportsOrderBy": false,
  "supportsDistinct": false,
  "supportsPagination": false
 },
 "spatialReference": {
  "wkid": 103037,
  "latestWkid": 6455
 }
}
