View In:
ArcGIS JavaScript
ArcGIS Online map viewer
ArcGIS Earth
Service Description: Village of Round Lake Beach Digital Elevation Model 2017
Name: RoundLakeBeach/rlbdem2017
Description: Village of Round Lake Beach Digital Elevation Model 2017
Single Fused Map Cache: false
Extent:
XMin: 1033954.3794888977
YMin: 2067366.6333960674
XMax: 1070282.8939568144
YMax: 2094373.1139626913
Spatial Reference: 103037
(6455)
VCSWkid(105703)
LatestVCSWkid(6360)
Initial Extent:
XMin: 1033954.3794888977
YMin: 2067366.6333960674
XMax: 1070282.8939568144
YMax: 2094373.1139626913
Spatial Reference: 103037
(6455)
VCSWkid(105703)
LatestVCSWkid(6360)
Full Extent:
XMin: 1033954.3794888977
YMin: 2067366.6333960674
XMax: 1070282.8939568144
YMax: 2094373.1139626913
Spatial Reference: 103037
(6455)
VCSWkid(105703)
LatestVCSWkid(6360)
Pixel Size X: 1.999918220089
Pixel Size Y: 1.9998874827179987
Band Count: 1
Pixel Type: F32
RasterFunction Infos: {"rasterFunctionInfos": [{
"name": "None",
"description": "",
"help": ""
}]}
Mensuration Capabilities: Basic
Inspection Capabilities:
Has Histograms: false
Has Colormap: false
Has Multi Dimensions : false
Rendering Rule:
Min Scale: 0
Max Scale: 0
Resampling: false
Copyright Text: Gewalt Hamilton Associates, Inc.
Service Data Type: esriImageServiceDataTypeGeneric
Min Values: N/A
Max Values: N/A
Mean Values: N/A
Standard Deviation Values: N/A
Object ID Field:
Fields:
None
Default Mosaic Method: Center
Allowed Mosaic Methods:
SortField:
SortValue: null
Mosaic Operator: First
Default Compression Quality: 75
Default Resampling Method: Bilinear
Max Record Count: null
Max Image Height: 4100
Max Image Width: 15000
Max Download Image Count: null
Max Mosaic Image Count: null
Allow Raster Function: true
Allow Copy: true
Allow Analysis: true
Allow Compute TiePoints: false
Supports Statistics: false
Supports Advanced Queries: false
Use StandardizedQueries: true
Raster Type Infos:
Name: Raster Dataset
Description: Supports all ArcGIS Raster Datasets
Help:
Has Raster Attribute Table: false
Edit Fields Info: null
Ownership Based AccessControl For Rasters: null
Child Resources:
Info
Statistics
Key Properties
Legend
Raster Function Infos
Supported Operations:
Export Image
Identify
Measure
Compute Histograms
Compute Statistics Histograms
Get Samples
Compute Class Statistics
Query Boundary
Compute Pixel Location
Compute Angles
Validate
Project