View In:
ArcGIS JavaScript
ArcGIS Online map viewer
ArcGIS Earth
Service Description: Riverwoods DTM
Name: Riverwoods/RivDTM
Description: Riverwoods DTM
Single Fused Map Cache: false
Extent:
XMin: 1073329.0758383183
YMin: 1997963.73914058
XMax: 1137104.0758383183
YMax: 2030506.23914058
Spatial Reference: 102671
(3435)
LatestVCSWkid(0)
Initial Extent:
XMin: 1073329.0758383183
YMin: 1997963.73914058
XMax: 1137104.0758383183
YMax: 2030506.23914058
Spatial Reference: 102671
(3435)
LatestVCSWkid(0)
Full Extent:
XMin: 1073329.0758383183
YMin: 1997963.73914058
XMax: 1137104.0758383183
YMax: 2030506.23914058
Spatial Reference: 102671
(3435)
LatestVCSWkid(0)
Pixel Size X: 2.5
Pixel Size Y: 2.5
Band Count: 1
Pixel Type: F32
RasterFunction Infos: {"rasterFunctionInfos": [{
"name": "None",
"description": "",
"help": ""
}]}
Mensuration Capabilities: Basic
Inspection Capabilities:
Has Histograms: false
Has Colormap: false
Has Multi Dimensions : false
Rendering Rule:
Min Scale: 0
Max Scale: 0
Copyright Text: Gewalt Hamilton Associates, Inc.
Service Data Type: esriImageServiceDataTypeGeneric
Min Values: 576.6415405273438
Max Values: 765.181884765625
Mean Values: 673.4932390193064
Standard Deviation Values: 28.8017257523241
Object ID Field:
Fields:
None
Default Mosaic Method: Center
Allowed Mosaic Methods:
SortField:
SortValue: null
Mosaic Operator: First
Default Compression Quality: 75
Default Resampling Method: Bilinear
Max Record Count: null
Max Image Height: 4100
Max Image Width: 15000
Max Download Image Count: null
Max Mosaic Image Count: null
Allow Raster Function: true
Allow Copy: true
Allow Analysis: true
Allow Compute TiePoints: false
Supports Statistics: false
Supports Advanced Queries: false
Use StandardizedQueries: true
Raster Type Infos:
Name: Raster Dataset
Description: Supports all ArcGIS Raster Datasets
Help:
Has Raster Attribute Table: false
Edit Fields Info: null
Ownership Based AccessControl For Rasters: null
Child Resources:
Info
Statistics
Key Properties
Legend
Raster Function Infos
Supported Operations:
Export Image
Identify
Measure
Compute Histograms
Compute Statistics Histograms
Get Samples
Compute Class Statistics
Query Boundary
Compute Pixel Location
Compute Angles
Validate
Project