View In:
ArcGIS JavaScript
ArcGIS Online map viewer
ArcGIS Earth
Service Description: Riv_Aerial_2023
Name: Riv_Aerial_2023
Description:
Single Fused Map Cache: false
Extent:
XMin: 1088037.9504176173
YMin: 1993862.2313888522
XMax: 1116837.9504176062
YMax: 2019062.2313888425
Spatial Reference: 102671
(3435)
LatestVCSWkid(0)
Initial Extent:
XMin: 1088037.9504176173
YMin: 1993862.2313888522
XMax: 1116837.9504176062
YMax: 2019062.2313888425
Spatial Reference: 102671
(3435)
LatestVCSWkid(0)
Full Extent:
XMin: 1088037.9504176173
YMin: 1993862.2313888522
XMax: 1116837.9504176062
YMax: 2019062.2313888425
Spatial Reference: 102671
(3435)
LatestVCSWkid(0)
Pixel Size X: 0.7999999999996895
Pixel Size Y: 0.7999999999996895
Band Count: 3
Pixel Type: U8
RasterFunction Infos: {"rasterFunctionInfos": [{
"name": "None",
"description": "",
"help": ""
}]}
Mensuration Capabilities: Basic
Inspection Capabilities:
Has Histograms: true
Has Colormap: false
Has Multi Dimensions : false
Rendering Rule:
Min Scale: 0
Max Scale: 0
Copyright Text:
Service Data Type: esriImageServiceDataTypeRGB
Min Values: 0, 0, 0
Max Values: 255, 255, 255
Mean Values: 122.33825007664, 109.33581565531, 92.881363747756
Standard Deviation Values: 50.912563577142, 44.600868618823, 40.946811508621
Object ID Field:
Fields:
None
Default Mosaic Method: Center
Allowed Mosaic Methods:
SortField:
SortValue: null
Mosaic Operator: First
Default Compression Quality: 75
Default Resampling Method: Bilinear
Max Record Count: null
Max Image Height: 4100
Max Image Width: 15000
Max Download Image Count: null
Max Mosaic Image Count: null
Allow Raster Function: true
Allow Copy: true
Allow Analysis: true
Allow Compute TiePoints: false
Supports Statistics: false
Supports Advanced Queries: false
Use StandardizedQueries: true
Raster Type Infos:
Name: Raster Dataset
Description: Supports all ArcGIS Raster Datasets
Help:
Has Raster Attribute Table: false
Edit Fields Info: null
Ownership Based AccessControl For Rasters: null
Child Resources:
Info
Histograms
Statistics
Key Properties
Legend
Raster Function Infos
Supported Operations:
Export Image
Identify
Measure
Compute Histograms
Compute Statistics Histograms
Get Samples
Compute Class Statistics
Query Boundary
Compute Pixel Location
Compute Angles
Validate
Project