View In:
ArcGIS JavaScript
ArcGIS Online map viewer
ArcGIS Earth
Service Description: Northfield/Northfield_2017_Aerial
Name: Northfield/Northfield_2017_Aerial
Description:
Single Fused Map Cache: false
Extent:
XMin: 1128155.5373206944
YMin: 1973946.8966806834
XMax: 1142222.7873206944
YMax: 1986857.6466806834
Spatial Reference: 102671
(3435)
LatestVCSWkid(0)
Initial Extent:
XMin: 1128155.5373206944
YMin: 1973946.8966806834
XMax: 1142222.7873206944
YMax: 1986857.6466806834
Spatial Reference: 102671
(3435)
LatestVCSWkid(0)
Full Extent:
XMin: 1128155.5373206944
YMin: 1973946.8966806834
XMax: 1142222.7873206944
YMax: 1986857.6466806834
Spatial Reference: 102671
(3435)
LatestVCSWkid(0)
Pixel Size X: 0.25
Pixel Size Y: 0.25
Band Count: 5
Pixel Type: U8
RasterFunction Infos: {"rasterFunctionInfos": [{
"name": "None",
"description": "",
"help": ""
}]}
Mensuration Capabilities: Basic
Inspection Capabilities:
Has Histograms: true
Has Colormap: false
Has Multi Dimensions : false
Rendering Rule:
Min Scale: 0
Max Scale: 0
Copyright Text:
Service Data Type: esriImageServiceDataTypeGeneric
Min Values: 0, 0, 0, 0, 0
Max Values: 255, 255, 255, 255, 255
Mean Values: 68.91820766519868, 65.7331280781146, 58.80319008001145, 81.02958689665039, 154.82728565308526
Standard Deviation Values: 64.60754556937536, 61.35629456124626, 54.86880426216559, 77.3123909266627, 124.5370204564567
Object ID Field:
Fields:
None
Default Mosaic Method: Center
Allowed Mosaic Methods:
SortField:
SortValue: null
Mosaic Operator: First
Default Compression Quality: 75
Default Resampling Method: Bilinear
Max Record Count: null
Max Image Height: 4100
Max Image Width: 15000
Max Download Image Count: null
Max Mosaic Image Count: null
Allow Raster Function: true
Allow Copy: true
Allow Analysis: true
Allow Compute TiePoints: false
Supports Statistics: false
Supports Advanced Queries: false
Use StandardizedQueries: true
Raster Type Infos:
Name: Raster Dataset
Description: Supports all ArcGIS Raster Datasets
Help:
Has Raster Attribute Table: false
Edit Fields Info: null
Ownership Based AccessControl For Rasters: null
Child Resources:
Info
Histograms
Statistics
Key Properties
Legend
Raster Function Infos
Supported Operations:
Export Image
Identify
Measure
Compute Histograms
Compute Statistics Histograms
Get Samples
Compute Class Statistics
Query Boundary
Compute Pixel Location
Compute Angles
Validate
Project