{
 "currentVersion": 11.5,
 "serviceDescription": "Northfield DEM 2022",
 "serviceItemId": "1ea5cf454aa8457c966867e6837f885d",
 "name": "Northfield/Northfield_IL_2022_DEM",
 "description": "Northfield DEM 2022",
 "extent": {
  "xmin": 1128138.8148595307,
  "ymin": 1971947.5339184208,
  "xmax": 1142252.8148595307,
  "ymax": 1986995.5339184208,
  "spatialReference": {
   "wkid": 103037,
   "latestWkid": 6455,
   "vcsWkid": 105703,
   "latestVcsWkid": 6360
  }
 },
 "initialExtent": {
  "xmin": 1128138.8148595307,
  "ymin": 1971947.5339184208,
  "xmax": 1142252.8148595307,
  "ymax": 1986995.5339184208,
  "spatialReference": {
   "wkid": 103037,
   "latestWkid": 6455,
   "vcsWkid": 105703,
   "latestVcsWkid": 6360
  }
 },
 "fullExtent": {
  "xmin": 1128138.8148595307,
  "ymin": 1971947.5339184208,
  "xmax": 1142252.8148595307,
  "ymax": 1986995.5339184208,
  "spatialReference": {
   "wkid": 103037,
   "latestWkid": 6455,
   "vcsWkid": 105703,
   "latestVcsWkid": 6360
  }
 },
 "sortableFields": "",
 "heightModelInfo": {
  "heightModel": "gravity_related_height",
  "vertCRS": "NAVD88_height_(ftUS)",
  "heightUnit": "us-foot"
 },
 "bandCount": 1,
 "pixelType": "F32",
 "minValues": [
  608.83239746094
 ],
 "maxValues": [
  678.11309814453
 ],
 "meanValues": [
  636.44958986979
 ],
 "stdvValues": [
  12.942211345506
 ],
 "serviceProperties": "Center<\/MosaicMethod>First<\/MosaicOperator>true<\/SortAscending><\/LockImageID><\/TileOrderField>0<\/TileOrderBase>0.000000<\/AvgImageSpacingX>0.000000<\/AvgImageSpacingY>0.0<\/ViewPointX>0.0<\/ViewPointY>0.0<\/ViewPointDefShiftX>0.0<\/ViewPointDefShiftY>None<\/CompressionMethod>75<\/CompressionQuality>0.010000<\/CompressionTolerance>Bilinear<\/SamplingMethod><\/ImageServiceProperties><\/ImageServer>",
 "allowedFields": "",
 "hasMultidimensions": false,
 "pixelSizeX": 1,
 "pixelSizeY": 1,
 "meanPixelSize": 0.30480060960121924,
 "datasetFormat": "TIFF",
 "uncompressedSize": 849549888,
 "blockWidth": 14114,
 "blockHeight": 1,
 "compressionType": "None",
 "bandNames": [
  "Band_1"
 ],
 "allowCopy": true,
 "allowAnalysis": true,
 "itemAccess": false,
 "inspectionCapabilities": "",
 "noDataValue": -32767,
 "noDataValues": [
  -32767
 ],
 "minPixelSize": 0,
 "maxPixelSize": 0,
 "copyrightText": "Northfield DEM 2022",
 "serviceDataType": "esriImageServiceDataTypeGeneric",
 "serviceSourceType": "esriImageServiceSourceTypeDataset",
 "objectIdField": "",
 "fields": [],
 "capabilities": "Image,Metadata,Mensuration",
 "defaultMosaicMethod": "Center",
 "allowedMosaicMethods": "",
 "sortField": "",
 "sortValue": null,
 "sortAscending": true,
 "mosaicOperator": "First",
 "defaultCompressionQuality": 75,
 "defaultResamplingMethod": "Bilinear",
 "maxImageHeight": 4100,
 "maxImageWidth": 15000,
 "allowRasterFunction": true,
 "rasterFunctionInfos": [
  {
   "name": "None",
   "description": "",
   "help": ""
  }
 ],
 "rasterTypeInfos": [
  {
   "name": "Raster Dataset",
   "description": "Supports all ArcGIS Raster Datasets",
   "help": ""
  }
 ],
 "mensurationCapabilities": "Basic",
 "hasHistograms": true,
 "hasColormap": false,
 "hasRasterAttributeTable": false,
 "minScale": 0,
 "maxScale": 0,
 "exportTilesAllowed": false,
 "supportsStatistics": false,
 "supportsAdvancedQueries": false,
 "editFieldsInfo": null,
 "ownershipBasedAccessControlForRasters": null,
 "allowComputeTiePoints": false,
 "useStandardizedQueries": true,
 "advancedQueryCapabilities": {
  "useStandardizedQueries": true,
  "supportsStatistics": false,
  "supportsOrderBy": false,
  "supportsDistinct": false,
  "supportsPagination": false
 },
 "spatialReference": {
  "wkid": 103037,
  "latestWkid": 6455,
  "vcsWkid": 105703,
  "latestVcsWkid": 6360
 }
}
