<?xml version="1.0" encoding="UTF-8" standalone="no"?>
<metadata xml:lang="en">
<Esri>
<CreaDate>20161004</CreaDate>
<CreaTime>13235600</CreaTime>
<ArcGISFormat>1.0</ArcGISFormat>
<ArcGISstyle>FGDC CSDGM Metadata</ArcGISstyle>
<SyncOnce>FALSE</SyncOnce>
<DataProperties>
<itemProps>
<itemName Sync="TRUE">Northfield_201_ProjectRaster</itemName>
<itemLocation>
<linkage Sync="TRUE">file://\\fileserver-01\Data\ArcServerMaps\Northfield_SQL\2017_Orthophoto\2017_Orthophoto.gdb</linkage>
<protocol Sync="TRUE">Local Area Network</protocol>
</itemLocation>
<imsContentType Sync="TRUE" export="False">002</imsContentType>
<nativeExtBox>
<westBL Sync="TRUE">1128155.537321</westBL>
<eastBL Sync="TRUE">1142222.787321</eastBL>
<southBL Sync="TRUE">1973946.896681</southBL>
<northBL Sync="TRUE">1986857.646681</northBL>
<exTypeCode Sync="TRUE">1</exTypeCode>
</nativeExtBox>
</itemProps>
<coordRef>
<type Sync="TRUE">Projected</type>
<geogcsn Sync="TRUE">GCS_North_American_1983</geogcsn>
<csUnits Sync="TRUE">Linear Unit: Foot_US (0.304801)</csUnits>
<projcsn Sync="TRUE">NAD_1983_StatePlane_Illinois_East_FIPS_1201_Feet</projcsn>
<peXml Sync="TRUE">&lt;ProjectedCoordinateSystem xsi:type='typens:ProjectedCoordinateSystem' xmlns:xsi='http://www.w3.org/2001/XMLSchema-instance' xmlns:xs='http://www.w3.org/2001/XMLSchema' xmlns:typens='http://www.esri.com/schemas/ArcGIS/3.0.0'&gt;&lt;WKT&gt;PROJCS[&amp;quot;NAD_1983_StatePlane_Illinois_East_FIPS_1201_Feet&amp;quot;,GEOGCS[&amp;quot;GCS_North_American_1983&amp;quot;,DATUM[&amp;quot;D_North_American_1983&amp;quot;,SPHEROID[&amp;quot;GRS_1980&amp;quot;,6378137.0,298.257222101]],PRIMEM[&amp;quot;Greenwich&amp;quot;,0.0],UNIT[&amp;quot;Degree&amp;quot;,0.0174532925199433]],PROJECTION[&amp;quot;Transverse_Mercator&amp;quot;],PARAMETER[&amp;quot;False_Easting&amp;quot;,984250.0],PARAMETER[&amp;quot;False_Northing&amp;quot;,0.0],PARAMETER[&amp;quot;Central_Meridian&amp;quot;,-88.33333333333333],PARAMETER[&amp;quot;Scale_Factor&amp;quot;,0.999975],PARAMETER[&amp;quot;Latitude_Of_Origin&amp;quot;,36.66666666666666],UNIT[&amp;quot;Foot_US&amp;quot;,0.3048006096012192],AUTHORITY[&amp;quot;EPSG&amp;quot;,3435]]&lt;/WKT&gt;&lt;XOrigin&gt;-17463800&lt;/XOrigin&gt;&lt;YOrigin&gt;-46132600&lt;/YOrigin&gt;&lt;XYScale&gt;137244822.07846552&lt;/XYScale&gt;&lt;ZOrigin&gt;-100000&lt;/ZOrigin&gt;&lt;ZScale&gt;10000&lt;/ZScale&gt;&lt;MOrigin&gt;-100000&lt;/MOrigin&gt;&lt;MScale&gt;10000&lt;/MScale&gt;&lt;XYTolerance&gt;0.0032808333333333331&lt;/XYTolerance&gt;&lt;ZTolerance&gt;0.001&lt;/ZTolerance&gt;&lt;MTolerance&gt;0.001&lt;/MTolerance&gt;&lt;HighPrecision&gt;true&lt;/HighPrecision&gt;&lt;WKID&gt;102671&lt;/WKID&gt;&lt;LatestWKID&gt;3435&lt;/LatestWKID&gt;&lt;/ProjectedCoordinateSystem&gt;</peXml>
</coordRef>
<RasterProperties>
<General>
<PixelDepth Sync="TRUE">8</PixelDepth>
<HasColormap Sync="TRUE">FALSE</HasColormap>
<CompressionType Sync="TRUE">Wavelet (MG4)</CompressionType>
<NumBands Sync="TRUE">5</NumBands>
<Format Sync="TRUE">MrSID</Format>
<HasPyramids Sync="TRUE">TRUE</HasPyramids>
<SourceType Sync="TRUE">continuous</SourceType>
<PixelType Sync="TRUE">unsigned integer</PixelType>
<NoDataValue Sync="TRUE"/>
</General>
</RasterProperties>
<lineage>
<Process Date="20230123" Time="131519" ToolSource="c:\program files\arcgis\pro\Resources\ArcToolbox\toolboxes\Data Management Tools.tbx\DefineProjection">DefineProjection Z:\ByClient\Northfield\Data\Orthophotos\2017\MrSIDs\Northfield_2017.sid PROJCS["NAD_1983_Illinois_East_ftUS",GEOGCS["GCS_North_American_1983",DATUM["D_North_American_1983",SPHEROID["GRS_1980",6378137.0,298.257222101]],PRIMEM["Greenwich",0.0],UNIT["Degree",0.0174532925199433]],PROJECTION["Transverse_Mercator"],PARAMETER["false_easting",984250.0],PARAMETER["false_northing",0.0],PARAMETER["central_meridian",-88.33333333333333],PARAMETER["scale_factor",0.999975],PARAMETER["latitude_of_origin",36.66666666666666],UNIT["Foot_US",0.3048006096012192]]</Process>
<Process Date="20230123" Time="131704" ToolSource="c:\program files\arcgis\pro\Resources\ArcToolbox\toolboxes\Data Management Tools.tbx\DefineProjection">DefineProjection Z:\ByClient\Northfield\Data\Orthophotos\2017\MrSIDs\Northfield_2017.sid PROJCS["NAD_1983_2011_StatePlane_Illinois_East_FIPS_1201_Ft_US",GEOGCS["GCS_NAD_1983_2011",DATUM["D_NAD_1983_2011",SPHEROID["GRS_1980",6378137.0,298.257222101]],PRIMEM["Greenwich",0.0],UNIT["Degree",0.0174532925199433]],PROJECTION["Transverse_Mercator"],PARAMETER["False_Easting",984250.0],PARAMETER["False_Northing",0.0],PARAMETER["Central_Meridian",-88.33333333333333],PARAMETER["Scale_Factor",0.999975],PARAMETER["Latitude_Of_Origin",36.66666666666666],UNIT["Foot_US",0.3048006096012192]]</Process>
<Process Date="20230123" Time="142040" ToolSource="c:\program files\arcgis\pro\Resources\ArcToolbox\toolboxes\Data Management Tools.tbx\ProjectRaster">ProjectRaster Northfield_2017.sid Z:\ArcServerMaps\Northfield_SQL\2017_Orthophoto\2017_Orthophoto.gdb\Northfield_201_ProjectRaster PROJCS["NAD_1983_StatePlane_Illinois_East_FIPS_1201_Feet",GEOGCS["GCS_North_American_1983",DATUM["D_North_American_1983",SPHEROID["GRS_1980",6378137.0,298.257222101]],PRIMEM["Greenwich",0.0],UNIT["Degree",0.0174532925199433]],PROJECTION["Transverse_Mercator"],PARAMETER["False_Easting",984250.0],PARAMETER["False_Northing",0.0],PARAMETER["Central_Meridian",-88.33333333333333],PARAMETER["Scale_Factor",0.999975],PARAMETER["Latitude_Of_Origin",36.66666666666666],UNIT["Foot_US",0.3048006096012192]] "Nearest neighbor" "0.25 0.25" 'WGS_1984_(ITRF08)_To_NAD_1983_2011 + WGS_1984_(ITRF00)_To_NAD_1983' # PROJCS["NAD_1983_2011_StatePlane_Illinois_East_FIPS_1201_Ft_US",GEOGCS["GCS_NAD_1983_2011",DATUM["D_NAD_1983_2011",SPHEROID["GRS_1980",6378137.0,298.257222101]],PRIMEM["Greenwich",0.0],UNIT["Degree",0.0174532925199433]],PROJECTION["Transverse_Mercator"],PARAMETER["False_Easting",984250.0],PARAMETER["False_Northing",0.0],PARAMETER["Central_Meridian",-88.33333333333333],PARAMETER["Scale_Factor",0.999975],PARAMETER["Latitude_Of_Origin",36.66666666666666],UNIT["Foot_US",0.3048006096012192]] NO_VERTICAL</Process>
<Process Date="20230123" Time="142132" ToolSource="c:\program files\arcgis\pro\Resources\ArcToolbox\toolboxes\Data Management Tools.tbx\Rename">Rename Z:\ArcServerMaps\Northfield_SQL\2017_Orthophoto\2017_Orthophoto.gdb\Northfield_201_ProjectRaster Z:\ArcServerMaps\Northfield_SQL\2017_Orthophoto\2017_Orthophoto.gdb\Northfield_2017_Aerial RasterDataset</Process>
</lineage>
</DataProperties>
<SyncDate>20230123</SyncDate>
<SyncTime>14175200</SyncTime>
<ModDate>20230123</ModDate>
<ModTime>14175200</ModTime>
<scaleRange>
<minScale>150000000</minScale>
<maxScale>5000</maxScale>
</scaleRange>
<ArcGISProfile>FGDC</ArcGISProfile>
</Esri>
<dataIdInfo>
<envirDesc Sync="TRUE">Microsoft Windows Server 2016 Technical Preview Version 10.0 (Build 17763) ; Esri ArcGIS 13.0.2.36056</envirDesc>
<dataLang>
<languageCode Sync="TRUE" value="eng"/>
<countryCode Sync="TRUE" value="USA"/>
</dataLang>
<idCitation>
<resTitle Sync="TRUE">Northfield_2017_Aerial</resTitle>
<presForm>
<PresFormCd Sync="TRUE" value="011"/>
</presForm>
<citRespParty>
<rpIndName>Ayres Associates</rpIndName>
<role>
<RoleCd value="006"/>
</role>
<rpCntInfo>
<cntAddress addressType="physical">
<city>Madison</city>
<adminArea>Wisconsin</adminArea>
<postCode>53704</postCode>
<country>US</country>
</cntAddress>
<cntPhone>
<voiceNum tddtty="">608-443-1200</voiceNum>
</cntPhone>
</rpCntInfo>
</citRespParty>
<date>
<createDate>2017-03-03T00:00:00</createDate>
<pubDate>2017-04-28T00:00:00</pubDate>
</date>
</idCitation>
<spatRpType>
<SpatRepTypCd Sync="FALSE" value=""/>
</spatRpType>
<dataExt>
<geoEle>
<GeoBndBox esriExtentType="search">
<exTypeCode Sync="TRUE">1</exTypeCode>
<westBL Sync="TRUE">-87.803201</westBL>
<eastBL Sync="TRUE">-87.751057</eastBL>
<northBL Sync="TRUE">42.120252</northBL>
<southBL Sync="TRUE">42.084574</southBL>
</GeoBndBox>
</geoEle>
</dataExt>
<idPurp>This project established digital, color orthoimagery for the Village of Northfield, Illinois as part of the Illinois GIS Consortium (ILGISC).</idPurp>
<idAbs>&lt;DIV STYLE="text-align:Left;"&gt;&lt;DIV&gt;&lt;DIV&gt;&lt;P&gt;&lt;SPAN&gt;Ayres Associates provided Village of Northfield, Illinois with digital, color orthoimagery services in 2017 as part of ILGISC. The aerial imagery was collected on March 3rd using a Leica DMC III sensor mounted in a fixed-wing aircraft. Aerial imagery was collected to support 0.25 foot ground sample distance (GSD) orthoimagery to meet National Map Accuracy Standards horizontal accuracy specifications at 1" = 50' map scale. The horizontal accuracy meets or exceeds 1.0 foot RMSE using the National Standard for Spatial Data Accuracy (NSSDA) standards. Resultant orthoimagery was rectified to a DEM created from existing LiDAR data. Orthoimagery was delivered in PLSS section GeoTiff and MrSID tiles and a project-wide MrSID mosaic. The orthoimagery was delivered according to a four section tile schematic. Supplemental Information: The Illinois GIS Consortium is an organization of Chicago-area communities unified by a common goal: to share resources, information, staffing, and technology so that municipalities can optimize the value of geographic information systems (GIS).&lt;/SPAN&gt;&lt;/P&gt;&lt;/DIV&gt;&lt;/DIV&gt;&lt;/DIV&gt;</idAbs>
<searchKeys>
<keyword>digital</keyword>
<keyword>Village of Northfield</keyword>
<keyword>orthoimagery</keyword>
<keyword>Cook County</keyword>
<keyword>color</keyword>
<keyword>3-inch</keyword>
<keyword>Illinois</keyword>
</searchKeys>
<themeKeys>
<keyword>digital</keyword>
<keyword>orthoimagery</keyword>
<keyword>color</keyword>
<keyword>3-inch</keyword>
</themeKeys>
<placeKeys>
<keyword>Village of Northfield</keyword>
<keyword>Cook County</keyword>
<keyword>Illinois</keyword>
</placeKeys>
<dataChar>
<CharSetCd value="004"/>
</dataChar>
<idStatus>
<ProgCd value="001"/>
</idStatus>
<idPoC>
<rpIndName>Village of Northfield, IL</rpIndName>
<rpOrgName>Community Development Department </rpOrgName>
<role>
<RoleCd value="007"/>
</role>
<rpCntInfo>
<cntAddress addressType="physical">
<delPoint>361 Happ Road</delPoint>
<city>Northfield</city>
<adminArea>IL</adminArea>
<postCode>60093</postCode>
<country>US</country>
</cntAddress>
<cntPhone>
<voiceNum tddtty="">847-446-9200</voiceNum>
</cntPhone>
</rpCntInfo>
</idPoC>
<resMaint>
<maintFreq>
<MaintFreqCd value="011"/>
</maintFreq>
<dateNext>2017-04-28T00:00:00</dateNext>
</resMaint>
<resConst>
<Consts>
<useLimit>Not to be used for purposes other than those strictly outlined in the 2017 ILGISC Village of Northfield Orthophotography Initiative.</useLimit>
</Consts>
</resConst>
<tpCat>
<TopicCatCd value="010"/>
</tpCat>
<idCredit/>
</dataIdInfo>
<mdLang>
<languageCode Sync="TRUE" value="eng"/>
<countryCode Sync="TRUE" value="USA"/>
</mdLang>
<mdChar>
<CharSetCd Sync="TRUE" value="004"/>
</mdChar>
<mdHrLv>
<ScopeCd Sync="TRUE" value="005"/>
</mdHrLv>
<mdHrLvName Sync="TRUE">dataset</mdHrLvName>
<refSysInfo>
<RefSystem>
<refSysID>
<identCode Sync="TRUE" code="3435"/>
<idCodeSpace Sync="TRUE">EPSG</idCodeSpace>
<idVersion Sync="TRUE">8.9.3(9.3.0.0)</idVersion>
</refSysID>
</RefSystem>
</refSysInfo>
<spatRepInfo>
<Georect>
<cellGeo>
<CellGeoCd Sync="TRUE" value="002"/>
</cellGeo>
<numDims Sync="TRUE">2</numDims>
<tranParaAv Sync="TRUE">1</tranParaAv>
<chkPtAv Sync="TRUE">0</chkPtAv>
<cornerPts>
<pos Sync="TRUE">1128155.530000 1973946.880000</pos>
</cornerPts>
<cornerPts>
<pos Sync="TRUE">1128155.530000 1986857.630000</pos>
</cornerPts>
<cornerPts>
<pos Sync="TRUE">1142222.780000 1986857.630000</pos>
</cornerPts>
<cornerPts>
<pos Sync="TRUE">1142222.780000 1973946.880000</pos>
</cornerPts>
<centerPt>
<pos Sync="TRUE">1135189.155000 1980402.255000</pos>
</centerPt>
<axisDimension type="002">
<dimSize Sync="TRUE">56269</dimSize>
<dimResol>
<value Sync="TRUE" uom="Foot_US">0.250000</value>
</dimResol>
</axisDimension>
<axisDimension type="001">
<dimSize Sync="TRUE">51643</dimSize>
<dimResol>
<value Sync="TRUE" uom="Foot_US">0.250000</value>
</dimResol>
</axisDimension>
<ptInPixel>
<PixOrientCd Sync="TRUE" value="001"/>
</ptInPixel>
</Georect>
</spatRepInfo>
<contInfo>
<ImgDesc>
<contentTyp>
<ContentTypCd Sync="TRUE" value="001"/>
</contentTyp>
<covDim>
<Band>
<dimDescrp Sync="TRUE">Band_1</dimDescrp>
<bitsPerVal Sync="TRUE">8</bitsPerVal>
<maxVal Sync="TRUE">232.000000</maxVal>
<minVal Sync="TRUE">0.000000</minVal>
<valUnit>
<UOM type="length"/>
</valUnit>
</Band>
<Band>
<dimDescrp Sync="TRUE">Band_2</dimDescrp>
<bitsPerVal Sync="TRUE">8</bitsPerVal>
<maxVal Sync="TRUE">228.000000</maxVal>
<minVal Sync="TRUE">0.000000</minVal>
<valUnit>
<UOM type="length"/>
</valUnit>
</Band>
<Band>
<dimDescrp Sync="TRUE">Band_3</dimDescrp>
<bitsPerVal Sync="TRUE">8</bitsPerVal>
<maxVal Sync="TRUE">217.000000</maxVal>
<minVal Sync="TRUE">0.000000</minVal>
<valUnit>
<UOM type="length"/>
</valUnit>
</Band>
<Band>
<dimDescrp Sync="TRUE">Band_4</dimDescrp>
<bitsPerVal Sync="TRUE">8</bitsPerVal>
<maxVal Sync="TRUE">229.000000</maxVal>
<minVal Sync="TRUE">0.000000</minVal>
<valUnit>
<UOM type="length"/>
</valUnit>
</Band>
<Band>
<dimDescrp Sync="TRUE">Band_5</dimDescrp>
<maxVal Sync="TRUE">255.000000</maxVal>
<minVal Sync="TRUE">0.000000</minVal>
<bitsPerVal Sync="TRUE">8</bitsPerVal>
<valUnit>
<UOM type="length"/>
</valUnit>
</Band>
</covDim>
<trianInd>False</trianInd>
<radCalDatAv>False</radCalDatAv>
<camCalInAv>False</camCalInAv>
<filmDistInAv>False</filmDistInAv>
<lensDistInAv>False</lensDistInAv>
</ImgDesc>
</contInfo>
<mdDateSt Sync="FALSE">20170428</mdDateSt>
<mdContact>
<rpIndName>Ayres Associates</rpIndName>
<role>
<RoleCd value="006"/>
</role>
<rpCntInfo>
<cntAddress addressType="physical">
<city>Madison</city>
<adminArea>Wisconsin</adminArea>
<postCode>53704</postCode>
</cntAddress>
<cntPhone>
<voiceNum tddtty="">608-443-1200</voiceNum>
</cntPhone>
</rpCntInfo>
<displayName>Ayres Associates</displayName>
</mdContact>
<mdMaint>
<maintFreq>
<MaintFreqCd value="011"/>
</maintFreq>
<dateNext>2017-04-17T00:00:00</dateNext>
</mdMaint>
<dqInfo>
<report dimension="" type="DQConcConsis">
<measDesc>Images were color corrected to match adjacent flight lines. The resulting imagery was globally tilted in terms of contrast and color to form a radiometrically consistent orthophoto mosaic.</measDesc>
</report>
<report dimension="" type="DQCompOm">
<measDesc>These data cover the entirety of the 2017 ILGISC Village of Northfield Orthophotography Initiative.</measDesc>
</report>
<dataLineage>
<prcStep>
<stepDesc>The imagery was collected using a Leica DMC III at 7cm GSD. Image quality was verified during the post flight review phase. Factors considered during this review included, but were not limited to, the presence of cloud cover, contrails, light conditions and sun flare. A rigorous Aerotriangulation process was performed and supplemented by existing ground control points. The imagery was mosaicked using manual seamlines generation and tone/color balanced to project-wide consistency. PLSS section RGBI tiles were extracted from the mosaic and each individual tile was reviewed for artifacts and anomalies and adjusted as part of quality control procedures. The images were reviewed for rectification problems such as bridge displacements and seamlines issues caused by the underlying digital elevation model. When necessary, local corrections to the imagery were performed to minimize such effects.</stepDesc>
<stepDateTm>2017-04-03T00:00:00</stepDateTm>
</prcStep>
</dataLineage>
</dqInfo>
<distInfo>
<distFormat>
<formatName>Raster Dataset</formatName>
</distFormat>
</distInfo>
<spdoinfo>
<rastinfo>
<rasttype Sync="TRUE">Pixel</rasttype>
<rowcount Sync="TRUE">51643</rowcount>
<colcount Sync="TRUE">56269</colcount>
<rastxsz Sync="TRUE">0.250000</rastxsz>
<rastysz Sync="TRUE">0.250000</rastysz>
<rastbpp Sync="TRUE">8</rastbpp>
<vrtcount Sync="TRUE">1</vrtcount>
<rastorig Sync="TRUE">Upper Left</rastorig>
<rastcmap Sync="TRUE">FALSE</rastcmap>
<rastcomp Sync="TRUE">LZ77</rastcomp>
<rastband Sync="TRUE">5</rastband>
<rastdtyp Sync="TRUE">pixel codes</rastdtyp>
<rastifor Sync="TRUE">FGDBR</rastifor>
<rastplyr Sync="TRUE">TRUE</rastplyr>
</rastinfo>
</spdoinfo>
<spref>
<horizsys>
<planar>
<planci>
<plance Sync="TRUE">row and column</plance>
<coordrep>
<absres Sync="TRUE">0.250000</absres>
<ordres Sync="TRUE">0.250000</ordres>
</coordrep>
</planci>
</planar>
</horizsys>
</spref>
</metadata>
